Workbook

Sheet 表紙
A5: 町村監査委員に関する 実態調査集計表
C10: （令和７年４月１日現在）
B26: 兵庫県町監査委員協議会

Sheet 目次
B4: 目 次
A7: １ | B7: 監査委員調 | C7: ……………………………………… | D7: １～３
A8: ２—１ | B8: 監査委員補助職員調 | C8: ……………………………………… | D8: ４
A9: ２—２ | B9: 事務局の共同設置に関する調 | C9: ……………………………………… | D9: ５
A10: ３ | B10: 監査委員費調 | C10: ……………………………………… | D10: ６
A11: ４ | B11: 監査委員報酬・費用弁償調 | C11: ……………………………………… | D11: ７
A12: ５ | B12: 監査所要日数調 | C12: ……………………………………… | D12: ８～９
A13: ６ | B13: 監査委員活動日数調 | C13: ……………………………………… | D13: １０
A14: ７—１ | B14: 監査規程等調 | C14: ……………………………………… | D14: １１
A15: ７—２ | B15: 勧告の実施に関する調 | C15: ……………………………………… | D15: １２
A16: ８—１ | B16: 議会・住民に対する監査結果の報告方法調 ……………………………… | D16: １３
A17: ８—２ | B17: 監査等のデジタル化に関する調 | C17: ……………………………………… | D17: １４
A18: ８—３ | B18: 監査指摘事項の履行確保のための措置に関する調 ………………… | D18: １５
A19: ９ | B19: 議選監査委員の人選方法 | C19: ……………………………………… | D19: １６
A20: １０ | B20: 監査手続に関する調 | C20: ……………………………………… | D20: １６
A21: １１ | B21: 外部監査に関する調 | C21: ……………………………………… | D21: １７
A22: １２ | B22: 監査専門委員に関する調 | C22: ……………………………………… | D22: １８
A23: １３ | B23: 内部統制に関する調 | C23: ……………………………………… | D23: １８
A24: １４ | B24: 議会による権利放棄に関する調 | C24: …………………………………… | D24: １９
A25: １５ | B25: 免責条例の制定・改廃に関する調 | C25: …………………………………… | D25: １９
A27: ○ | B27: 監査請求事例・住民訴訟判例に関する調 ……………………………… | D27: ２０

Sheet 1監査委員調①
A1: １ 監査委員調 ① | D1: （令和７年４月１日現在）
A3: ○識見（代表）を有する者 | D3: 45748
A4: 町 名 | B4: 氏 名 | C4: 生年月日 | D4: 年齢 | E4: 通算在職年数 | I4: 職 業 | J4: 公務員歴 | K4: 常勤 | L4: 識見2名以上の条例
E5: 期間 | G5: 年 | H5: 月
A6: 猪名川町 | B6: 古賀 三津男 | C6: 18822 | D6: =DATEDIF(C6,D3,"Y") -> 73 | E6: 自 | F6: 42651 | G6: =DATEDIF(F6,F7,"Y") -> 8 | H6: 7 | I6: 税理士 | J6: 国税局職員 | L6: 無
E7: 至 | F7: 45748
A8: 多可町 | B8: 霜浦 暢祐 | C8: 21014 | D8: =DATEDIF(C8,D3,"Y") -> 67 | E8: 自 | F8: 44562 | G8: =DATEDIF(F8,F9,"Y") -> 3 | H8: 4 | I8: 税理士 | J8: 税務署職員 | L8: 無
E9: 至 | F9: 45748
A10: 稲美町 | B10: 小西 昇 | C10: 19247 | D10: =DATEDIF(C10,D3,"Y") -> 72 | E10: 自 | F10: 44743 | G10: =DATEDIF(F10,F11,"Y") -> 2 | H10: 10 | I10: 無職 | J10: 町職員 | L10: 無
E11: 至 | F11: 45748
A12: 播磨町 | B12: 平崎 泰彦 | C12: 19543 | D12: =DATEDIF(C12,D3,"Y") -> 71 | E12: 自 | F12: 42931 | G12: =DATEDIF(F12,F13,"Y") -> 7 | H12: 10 | I12: 税理士 | L12: 無
E13: 至 | F13: 45748
A14: 市川町 | B14: 前田 盛雄 | C14: 19486 | D14: =DATEDIF(C14,D3,"Y") -> 71 | E14: 自 | F14: 44470 | G14: =DATEDIF(F14,F15,"Y") -> 3 | H14: 7 | I14: 無職 | J14: 市職員 | L14: 無
E15: 至 | F15: 45748
A16: 福崎町 | B16: 鳥岡 照義 | C16: 20104 | D16: =DATEDIF(C16,D3,"Y") -> 70 | E16: 自 | F16: 42917 | G16: =DATEDIF(F16,F17,"Y") -> 7 | H16: 10 | I16: 無職 | L16: 無
E17: 至 | F17: 45748
A18: 神河町 | B18: 藤後 秀喜 | C18: 18675 | D18: =DATEDIF(C18,D3,"Y") -> 74 | E18: 自 | F18: 44539 | G18: =DATEDIF(F18,F19,"Y") -> 3 | H18: 5 | I18: 無職 | L18: 無
E19: 至 | F19: 45748
A20: 太子町 | B20: 村瀬 敏紀 | C20: 19949 | D20: =DATEDIF(C20,D3,"Y") -> 70 | E20: 自 | F20: 44365 | G20: =DATEDIF(F20,F21,"Y") -> 3 | H20: 11 | I20: 無職 | L20: 無
E21: 至 | F21: 45748
A22: 上郡町 | B22: 西後 竹則 | C22: 18444 | D22: =DATEDIF(C22,D3,"Y") -> 74 | E22: 自 | F22: 39173 | G22: 15 | H22: 1 | I22: 無職 | L22: 無
E23: 至 | F23: 40633
E24: 自 | F24: 41752
E25: 至 | F25: 45748
A26: 佐用町 | B26: 中井 幹夫 | C26: 19974 | D26: =DATEDIF(C26,D3,"Y") -> 70 | E26: 自 | F26: 44287 | G26: =DATEDIF(F26,F27,"Y") -> 4 | H26: 1 | I26: 無職 | L26: 無
E27: 至 | F27: 45748
A28: 香美町 | B28: 岡本 和彦 | C28: 18887 | D28: =DATEDIF(C28,D3,"Y") -> 73 | E28: 自 | F28: 45322 | G28: =DATEDIF(F28,F29,"Y") -> 1 | H28: 4 | I28: 無職 | L28: 無
E29: 至 | F29: 45748
A30: 新温泉町 | B30: 島田 信夫 | C30: 20267 | D30: =DATEDIF(C30,D3,"Y") -> 69 | E30: 自 | F30: 44330 | G30: 4 | H30: 0 | I30: 無職 | J30: 町職員 | L30: 無
E31: 至 | F31: 45748

Sheet 1監査委員調②
A1: １ 監査委員調 ② | D1: ='1監査委員調①'!D1 -> （令和７年４月１日現在）
A3: ○議会選出の者 | D3: 45748
A4: 町 名 | B4: 氏 名 | C4: 生年月日 | D4: 年齢 | E4: 通算在職年数 | I4: 職 業 | J4: 議選を選任しない条例
E5: 期間 | G5: 年 | H5: 月
A6: 猪名川町 | B6: 阪本 ひろ子 | C6: 22325 | D6: =DATEDIF(C6,D3,"Y") -> 64 | E6: 自 | F6: 45203 | G6: =DATEDIF(F6,F7,"Y") -> 1 | H6: 7 | I6: 無職 | J6: 無
E7: 至 | F7: 45748
A8: 多可町 | B8: 清水 俊博 | C8: 17947 | D8: =DATEDIF(C8,D3,"Y") -> 76 | E8: 自 | F8: 44197 | G8: =DATEDIF(F8,F9,"Y") -> 4 | H8: 4 | I8: 運輸通信業 | J8: 無
E9: 至 | F9: 45748
A10: 稲美町 | B10: 小山 裕美 | C10: 27073 | D10: =DATEDIF(C10,D3,"Y") -> 51 | E10: 自 | F10: 45566 | G10: =DATEDIF(F10,F11,"Y") -> 0 | H10: 7 | I10: 会社役職員 | J10: 無
E11: 至 | F11: 45748
A12: 播磨町 | B12: 岡田 千賀子 | C12: 19863 | D12: =DATEDIF(C12,D3,"Y") -> 70 | E12: 自 | F12: 45056 | G12: 2 | H12: 0 | I12: 無職 | J12: 無
E13: 至 | F13: 45748
A14: 市川町 | B14: 本間 信夫 | C14: 17870 | D14: =DATEDIF(C14,D3,"Y") -> 76 | E14: 自 | F14: 43007 | G14: =DATEDIF(F14,F15,"Y") -> 7 | H14: 8 | I14: 農林業 | J14: 無
E15: 至 | F15: 45748
A16: 福崎町 | B16: 石川 治 | C16: 21423 | D16: =DATEDIF(C16,D3,"Y") -> 66 | E16: 自 | F16: 45047 | G16: 2 | H16: 0 | I16: 無職 | J16: 無
E17: 至 | F17: 45748
A18: 神河町 | B18: 吉岡 嘉宏 | C18: 21358 | D18: =DATEDIF(C18,D3,"Y") -> 66 | E18: 自 | F18: 44683 | G18: 3 | H18: 0 | I18: その他（事務員） | J18: 無
E19: 至 | F19: 45748
A20: 太子町 | B20: 桑名 幸夫 | C20: 21737 | D20: =DATEDIF(C20,D3,"Y") -> 65 | E20: 自 | F20: 45058 | G20: 2 | H20: 0 | I20: 無職 | J20: 無
E21: 至 | F21: 45748
A22: 上郡町 | B22: 木村 公男 | C22: 19308 | D22: =DATEDIF(C22,D3,"Y") -> 72 | E22: 自 | F22: 45133 | G22: =DATEDIF(F22,F23,"Y") -> 1 | H22: 10 | I22: 無職 | J22: 無
E23: 至 | F23: 45748
A24: 佐用町 | B24: 金澤 孝良 | C24: 19268 | D24: =DATEDIF(C24,D3,"Y") -> 72 | E24: 自 | F24: 45413 | G24: 1 | H24: 0 | I24: 農林業 | J24: 無
E25: 至 | F25: 45748
A26: 香美町 | B26: 東垣 典雄 | C26: 18287 | D26: =DATEDIF(C26,D3,"Y") -> 75 | E26: 自 | F26: 44333 | G26: 4 | H26: 0 | I26: 農林業 | J26: 無
E27: 至 | F27: 45748
A28: 新温泉町 | B28: 小林 俊之 | C28: 19000 | D28: =DATEDIF(C28,D3,"Y") -> 73 | E28: 自 | F28: 43056 | G28: =DATEDIF(F28,F29,"Y") -> 7 | H28: 6 | I28: 無職 | J28: 無
E29: 至 | F29: 45748

Sheet 1監査委員調③
A1: １ 監査委員調 ③ | D1: ='1監査委員調①'!D1 -> （令和７年４月１日現在）
A3: ○町村等監査委員の年齢構成調
B4: 30歳未満 | C4: 30～39歳 | D4: 40～49歳 | E4: 50～59歳 | F4: 60～69歳 | G4: 70～79歳 | H4: 80歳以上
A5: 代 表 | F5: 2 | G5: 10
A6: 議 選 | E6: 1 | F6: 4 | G6: 7
AI7: 13 | AJ7: 1
B8: 合 計 | D8: 平 均
A9: 代 表 | B9: =SUM(B5:H5) -> 12 | C9: =SUM('1監査委員調①'!D6:D31) -> 854 | D9: =ROUND(C9/B9,1) -> 71.2
A10: 議 選 | B10: =SUM(B6:H6) -> 12 | C10: =SUM('1監査委員調②'!D6:D29) -> 826 | D10: =ROUND(C10/B10,1) -> 68.8
A13: ○町村等監査委員の通算在職年数調
B14: 1年未満 | C14: 1年以上 2年未満 | D14: 2年以上 3年未満 | E14: 3年以上 4年未満 | F14: 4年以上 5年未満 | G14: 5年以上 | H14: 合 計 | I14: 平 均
A15: 代 表
C16: 1 | D16: 1 | E16: 4 | F16: 2 | G16: 4 | H16: =SUM(B16:G16) -> 12 | I16: 5年6月
A17: 議 選
B18: 1 | C18: 3 | D18: 3 | E18: 1 | F18: 2 | G18: 2 | H18: =SUM(B18:G18) -> 12 | I18: 3年2月
A21: ○町村等監査委員の職業調
B22: 農林業 | C22: 水産業 | D22: 商 業 | E22: 工 業 | F22: 土木建築業 | G22: 鉱 業 | H22: サービス業 | I22: 運輸通信業
A23: 代 表
A24: 議 選 | B24: 3 | I24: 1
B26: 会社役職員 | C26: 団体役職員 | D26: 弁護士 | E26: 公認会計士 | F26: 税理士 | G26: 無職 | H26: その他 | I26: 合 計
A27: 代 表 | F27: 3 | G27: 9 | I27: =SUM(B23:I23,B27:H27) -> 12
A28: 議 選 | B28: 1 | G28: 6 | H28: 1 | I28: =SUM(B24:I24,B28:H28) -> 12
H30: ○常勤監査委員 就任状況
A31: ○公務員歴（識見（代表）監査委員） | I31: 該当なし
A32: 公 務 員 歴 | F32: な し | G32: 合計 | H32: ○識見監査委員を ２名以上選任
A33: 町村長、 副町村長 | B33: その他 町村職員 | C33: 教職員 | D33: 町村議員 | E33: その他当該団体以外の職員 | I33: 該当なし
B34: 2 | E34: 3 | F34: 7 | G34: =SUM(A34:F34) -> 12 | H34: ○議選監査員を選任 しない条例の有無
I35: 該当なし

Sheet 2‐1補助職員調
A1: ２‐1 監査委員補助職員調 | I1: ='1監査委員調①'!D1 -> （令和７年４月１日現在）
A3: 町 名 | B3: 職員定数 （条例） | D3: 現在数 | E3: 専 任 | H3: 兼 任 | L3: 事 務 局 設 置
L4: 有 | O4: 無
B5: 専任 | C5: 兼任 | E5: 職 名 | F5: 在 職 期 間 | H5: 専任職名 | I5: 所属課名 | J5: 在 職 期 間 | L5: 条例 | M5: 規程 | N5: その他
B6: 人 | C6: 人 | D6: 人 | F6: 年 | G6: 月 | J6: 年 | K6: 月 | O6: ○
A7: 猪名川町 | B7: 0 | C7: 0 | D7: 4 | H7: 事務局長 | I7: 議会事務局 | J7: 1 | K7: 1
H8: 副主幹 | J8: 2 | K8: 1
H9: 主 査 | J9: 1 | K9: 1
H10: 会計年度任用職員 | J10: 7 | K10: 9
A11: 多可町 | B11: 0 | C11: 1 | D11: =COUNTA(H11) -> 1 | H11: 事務局長 | I11: 議会事務局 | J11: 1 | K11: 1 | O11: ○ | AL11: 13 | AM11: 1
A12: 稲美町 | B12: 0 | C12: 4 | D12: 2 | H12: 事務局長 | I12: 議会事務局 | J12: 1 | K12: 1 | O12: ○
H13: 次 長 | J13: 6 | K13: 1
A14: 播磨町 | B14: 0 | C14: 0 | D14: 3 | H14: 事務局長 | I14: 議会事務局 | J14: 2 | K14: 7 | O14: ○
H15: 係 長 | J15: 0 | K15: 1
H16: 主 査 | J16: 1 | K16: 1
A17: 市川町 | B17: 0 | C17: 1 | D17: =COUNTA(H17) -> 1 | H17: 主 査 | I17: 議会事務局 | J17: 3 | K17: 1 | O17: ○
A18: 福崎町 | B18: 0 | C18: 3 | D18: =COUNTA(H18:H20) -> 3 | H18: 事務局長 | I18: 議会事務局 | J18: 1 | K18: 1 | O18: ○
H19: 局長補佐 | J19: 4 | K19: 1
H20: 主 事 | J20: 1 | K20: 1
A21: 神河町 | B21: 0 | C21: 1 | D21: =COUNTA(H21) -> 1 | H21: 主 査 | I21: 議会事務局 | J21: 4 | K21: 1 | O21: ○
A22: 太 子 町 | B22: 0 | C22: 1 | D22: =COUNTA(H22:H22) -> 1 | H22: 副局長 | I22: 議会事務局 | J22: 5 | K22: 1 | O22: ○
A23: 上郡町 | B23: 0 | C23: 3 | D23: 3 | H23: 事務局長 | I23: 議会事務局 | J23: 0 | K23: 1 | O23: ○
H24: 副局長 | J24: 1 | K24: 1
H25: 主 査 | J25: 3 | K25: 5
A26: 佐用町 | B26: 0 | C26: 3 | D26: =COUNTA(H26:H28) -> 3 | H26: 事務局長 | I26: 議会事務局 | J26: 2 | K26: 1 | O26: ○
H27: 室 長 | J27: 3 | K27: 1
H28: 主 事 | J28: 1 | K28: 1
A29: 香美町 | B29: 0 | C29: 3 | D29: 3 | H29: 事務局長 | I29: 議会事務局 | J29: 3 | K29: 1 | O29: ○
H30: 係 長 | J30: 2 | K30: 1
H31: 専門員 | J31: 4 | K31: 1
A32: 新温泉町 | B32: 0 | C32: 0 | D32: =COUNTA(H32:H33) -> 2 | H32: 事務局長 | I32: 議会事務局 | J32: 3 | K32: 1 | O32: ○
H33: 課長補佐 | J33: 2 | K33: 1
A34: 該当町数 | B34: =COUNT(B7:B32) -> 12 | C34: =COUNT(C7:C32) -> 12 | D34: =COUNT(D7:D32) -> 12 | H34: 議会事務局 | I34: 12町 | J34: =D35 -> 27 | L34: =COUNTIF(L7:L33,"○") -> 0 | M34: =COUNTIF(M7:M33,"○") -> 0 | N34: =COUNTIF(N7:N33,"○") -> 0 | O34: =COUNTIF(O6:O33,"○") -> 12
A35: 合 計 | B35: =SUM(B7:B32) -> 0 | C35: =SUM(C7:C32) -> 20 | D35: =SUM(D7:D33) -> 27 | H35: 平均人数 | J35: =D36 -> 2.3
A36: 平 均 | B36: =ROUND(B35/B34,1) -> 0 | C36: =ROUND(C35/C34,1) -> 1.7 | D36: =ROUND(D35/D34,1) -> 2.3 | H36: 平均在職期間 | J36: =ROUNDDOWN(H37/12,0) -> 2 | K36: =H37-(J36*12) -> 6.1111111 | L36: =L34/12 -> 0 | M36: =M34/12 -> 0 | N36: =N34/12 -> 0 | O36: =ROUNDUP(O34/12,3) -> 1
H37: =(SUM(J7:J33)*12+SUM(K7:K33))/J34 -> 30.111111 | L37: =SUM(L36:O36) -> 1

Sheet 2‐2事務局共同設置調
A1: ２‐２ 事務局の共同設置に関する調
A2: ='1監査委員調①'!D1 -> （令和７年４月１日現在）
A4: 町 名 | B4: 有 | C4: 無
A7: 猪名川町 | C7: ○
A8: 多可町 | C8: ○ | AB8: 13 | AC8: 1
A9: 稲美町 | C9: ○
A10: 播磨町 | C10: ○
A11: 市川町 | C11: ○
A12: 福崎町 | C12: ○
A13: 神河町 | C13: ○
A14: 太子町 | C14: ○
A15: 上郡町 | C15: ○
A16: 佐用町 | C16: ○
A17: 香美町 | C17: ○
A18: 新温泉町 | C18: ○
A19: 該当町数 | B19: =COUNTA(B7:B18) -> 0 | C19: =COUNTA(C7:C18) -> 12
A20: 構成比 | B20: =ROUND(B19/12,3) -> 0 | C20: =ROUND(C19/12,3) -> 1
B21: =SUM(B20:C20) -> 1

Sheet 3監査委員費調
A1: ３ 監査委員費調 | C1: （令和7年度当初予算）
H3: （単位：千円）
A4: 町 名 | B4: 報 酬 | C4: 職 員 給与費 | D4: 旅 費 | E4: 需用費 | F4: 備 品 購入費 | G4: 負担金 補助金 交付金 | H4: その他 | J4: 合 計
A5: 猪名川町 | B5: 680 | D5: 145 | G5: 94 | H5: 83 | I5: 監査委託料 | J5: =SUM(B5:H5) -> 1002
A6: 多可町 | B6: 612 | D6: 186 | E6: 15 | G6: 67 | H6: 87 | I6: タブレット回線 アプリ利用料 | J6: =SUM(B6:H6) -> 967 | AJ6: 13 | AK6: 1
A7: 稲美町 | B7: 693 | D7: 268 | E7: 13 | G7: 25 | J7: =SUM(B7:H7) -> 999
A8: 播磨町 | B8: 770 | D8: 293 | E8: 21 | G8: 117 | J8: =SUM(B8:H8) -> 1201
A9: 市川町 | B9: 400 | D9: 273 | G9: 67 | J9: =SUM(B9:H9) -> 740
A10: 福崎町 | B10: 534 | D10: 195 | E10: 663 | F10: 10 | G10: 138 | H10: 25 | I10: 通行料20 郵便料5 | J10: =SUM(B10:H10) -> 1565
A11: 神河町 | B11: 445 | D11: 337 | E11: 8 | G11: 67 | J11: =SUM(B11:H11) -> 857
A12: 太子町 | B12: 876 | D12: 223 | E12: 8 | G12: 78 | H12: 180 | I12: 配達証明手数料4 有料道路通行料13 駐車場使用料9 自治体実務解説サービス利用料154 | J12: =SUM(B12:H12) -> 1365
A13: 上郡町 | B13: 635 | D13: 223 | E13: 20 | G13: 74 | H13: 33 | I13: 使用料及び 賃借料 | J13: =SUM(B13:H13) -> 985
A14: 佐用町 | B14: 588 | D14: 235 | E14: 48 | G14: 67 | J14: =SUM(B14:H14) -> 938
A15: 香美町 | B15: 588 | D15: 234 | E15: 13 | G15: 71 | J15: =SUM(B15:H15) -> 906
A16: 新温泉町 | B16: 588 | D16: 364 | E16: 38 | G16: 73 | H16: 34 | I16: 有料道路通行料 駐車場使用料 | J16: =SUM(B16:H16) -> 1097
A17: 該当町数 | B17: =COUNTA(B5:B16) -> 12 | C17: =COUNTA(C5:C16) -> 0 | D17: =COUNTA(D5:D16) -> 12 | E17: =COUNTA(E5:E16) -> 10 | F17: =COUNTA(F5:F16) -> 1 | G17: =COUNTA(G5:G16) -> 12 | H17: =COUNTA(H5:H16) -> 6 | J17: =COUNTA(J5:J16) -> 12
A18: 合 計 | B18: =SUM(B5:B16) -> 7409 | C18: 0 | D18: =SUM(D5:D16) -> 2976 | E18: =SUM(E5:E16) -> 847 | F18: =SUM(F5:F16) -> 10 | G18: =SUM(G5:G16) -> 938 | H18: =SUM(H5:H16) -> 442 | J18: =SUM(J5:J16) -> 12622
A19: 平 均 | B19: =ROUND(B18/B17,1) -> 617.4 | C19: 0 | D19: =ROUND(D18/D17,1) -> 248 | E19: =ROUND(E18/E17,1) -> 84.7 | F19: =ROUND(F18/F17,1) -> 10 | G19: =ROUND(G18/G17,1) -> 78.2 | H19: =ROUND(H18/H17,1) -> 73.7 | J19: =ROUND(J18/12,1) -> 1051.8

Sheet 4報酬・費用弁償調
A1: ４ 監査委員報酬・費用弁償調 | E1: ='3監査委員費調'!C1 -> （令和7年度当初予算）
F3: （単位：円）
A4: 町 名 | B4: 報 酬 | H4: 費 用 弁 償
B5: 識 見 （代 表） | E5: 議 選 | H5: 町内 | J5: 町外(県内） | L5: 町外(県外）
B6: 年 額 | C6: 月 額 | D6: 日 額 | E6: 年 額 | F6: 月 額 | G6: 日 額 | H6: 有 | I6: 無 | J6: 有 | K6: 無 | L6: 有 | M6: 無
A7: 猪名川町 | B7: 400000 | E7: 280000 | I7: ○ | J7: ○ | L7: ○
A8: 多可町 | B8: 360000 | E8: 210000 | I8: ○ | J8: ○ | L8: ○
A9: 稲美町 | B9: 373000 | E9: 295000 | I9: ○ | J9: ○ | L9: ○
A10: 播磨町 | B10: 400000 | E10: 310000 | I10: ○ | J10: ○ | L10: ○
A11: 市川町 | B11: 240000 | E11: 160000 | H11: ○ | J11: ○ | L11: ○
A12: 福崎町 | B12: 304000 | E12: 230000 | I12: ○ | J12: ○ | L12: ○
A13: 神河町 | B13: 300000 | E13: 145000 | H13: ○ | J13: ○ | L13: ○
A14: 太子町 | C14: 43000 | F14: 30000 | I14: ○ | J14: ○ | L14: ○
A15: 上郡町 | C15: 30000 | F15: 22900 | I15: ○ | J15: ○ | L15: ○
A16: 佐用町 | C16: 30000 | F16: 19000 | I16: ○ | J16: ○ | L16: ○
A17: 香美町 | C17: 27000 | F17: 22000 | H17: ○ | J17: ○ | L17: ○
A18: 新温泉町 | C18: 27000 | F18: 22000 | H18: ○ | J18: ○ | L18: ○
A19: 該当町数 | B19: =COUNTA(B7:B18) -> 7 | C19: =COUNTA(C7:C18) -> 5 | D19: =COUNTA(D7:D18) -> 0 | E19: =COUNTA(E7:E18) -> 7 | F19: =COUNTA(F7:F18) -> 5 | G19: =COUNTA(G7:G18) -> 0 | H19: =COUNTA(H7:H18) -> 4 | I19: =COUNTA(I7:I18) -> 8 | ... M19: =COUNTA(M7:M18) -> 0
A20: 合 計 | B20: =SUM(B7:B18) -> 2377000 | C20: =SUM(C7:C18) -> 157000 | E20: =SUM(E7:E18) -> 1630000 | F20: =SUM(F7:F18) -> 115900
A21: 平 均 | B21: =B20/B19 -> 339571.43 | C21: =C20/C19 -> 31400 | E21: =E20/E19 -> 232857.14 | F21: =F20/F19 -> 23180 | H21: =ROUND(H19/12,3) -> 0.333 | I21: =ROUND(I19/12,3) -> 0.667 | J21: =ROUND(J19/12,3) -> 1 | K21: =ROUND(K19/12,3) -> 0 | L21: =ROUND(L19/12,3) -> 1 | M21: =ROUND(M19/12,3) -> 0
H22: =SUM(H21:I21) -> 1 | J22: =SUM(J21:K21) -> 1 | L22: =SUM(L21:M21) -> 1
A23: 最高額 | B23: =MAX(B7:B18) -> 400000 | C23: =MAX(C7:C18) -> 43000 | E23: =MAX(E7:E18) -> 310000 | F23: =MAX(F7:F18) -> 30000
A24: 最低額 | B24: =MIN(B7:B18) -> 240000 | C24: =MIN(C7:C18) -> 27000 | E24: =MIN(E7:E18) -> 145000 | F24: =MIN(F7:F18) -> 19000

Sheet 5監査所要日数調
A1: ５ 監査所要日数調 | G1: （令和６年４月１日～令和７年３月３１日）
U2: 次頁へ→
A3: 町 名 | B3: 一 般 監 査 | J3: 出 納 検 査 | N3: 特 別 監 査
B4: 定期監査 | D4: 随時監査 | F4: 財政的援助団体等監査 | H4: 行政 監査 | J4: 例 月 | L4: 随 時 | N4: 直接請求 | P4: 議会の 要求 | R4: 請願措置 | T4: 長の要求 | V4: 共同設置 機 関
B5: 回 | C5: 日 | D5: 回 | E5: 日 | F5: 回 | G5: 日 | H5: 回 | I5: 日 | J5: 回 | K5: 日 | L5: 回 | M5: 日 | N5: 件 | O5: 日 | P5: 件 | Q5: 日 | R5: 件 | S5: 日 | T5: 件 | U5: 日 | V5: 件 | W5: 日
A6: 猪名川町 | B6: 1 | C6: 6 | F6: 1 | G6: 1 | J6: 12 | K6: 12
A7: 多可町 | B7: 3 | C7: 3 | F7: 6 | G7: 6 | H7: 1 | I7: 1 | J7: 12 | K7: 12
A8: 稲美町 | B8: 1 | C8: 3 | F8: 1 | G8: 1 | J8: 11 | K8: 11 | V8: 1 | W8: 1
A9: 播磨町 | B9: 1 | C9: 3 | D9: 1 | E9: 1 | J9: 12 | K9: 12 | L9: 5 | M9: 5
A10: 市川町 | B10: 1 | C10: 3 | F10: 1 | G10: 4 | J10: 12 | K10: 12
A11: 福崎町 | B11: 2 | C11: 4 | F11: 1 | G11: 1 | J11: 12 | K11: 12
A12: 神河町 | B12: 1 | C12: 4 | F12: 1 | G12: 5 | H12: 1 | I12: 1 | J12: 12 | K12: 16
A13: 太子町 | B13: 1 | C13: 6 | J13: 12 | K13: 12
A14: 上郡町 | B14: 1 | C14: 4 | F14: 1 | G14: 3 | J14: 12 | K14: 12 | L14: 8 | M14: 6
A15: 佐用町 | B15: 1 | C15: 7 | F15: 1 | G15: 1 | J15: 12 | K15: 12
A16: 香美町 | B16: 1 | C16: 4 | J16: 12 | K16: 12
A17: 新温泉町 | B17: 1 | C17: 3 | F17: 1 | G17: 2 | J17: 12 | K17: 14
A18: 該当町数 | B18: =COUNT(B6:B17) -> 12 | D18: =COUNT(D6:D17) -> 1 | F18: =COUNT(F6:F17) -> 9 | H18: =COUNT(H6:H17) -> 2 | J18: =COUNT(J6:J17) -> 12 | L18: =COUNT(L6:L17) -> 2 | N18: =COUNT(N6:N17) -> 0 | P18: =COUNT(P6:P17) -> 0 | R18: =COUNT(R6:R17) -> 0 | T18: =COUNT(T6:T17) -> 0 | V18: =COUNT(V6:V17) -> 1
A19: 合 計 | B19: =SUM(B6:B17) -> 15 | C19: =SUM(C6:C17) -> 50 | D19: =SUM(D6:D17) -> 1 | E19: =SUM(E6:E17) -> 1 | F19: =SUM(F6:F17) -> 14 | G19: =SUM(G6:G17) -> 24 | H19: =SUM(H6:H17) -> 2 | I19: =SUM(I6:I17) -> 2 | ... W19: =SUM(W6:W17) -> 1
A20: 平 均 | B20: =ROUND(B19/B18,1) -> 1.3 | C20: =ROUND(C19/B18,1) -> 4.2 | D20: =ROUND(D19/D18,1) -> 1 | E20: =ROUND(E19/D18,1) -> 1 | F20: =ROUND(F19/F18,1) -> 1.6 | G20: =ROUND(G19/F18,1) -> 2.7 | H20: =ROUND(H19/H18,1) -> 1 | I20: =ROUND(I19/H18,1) -> 1 | J20: =ROUND(J19/J18,1) -> 11.9 | K20: =ROUND(K19/J18,1) -> 12.4 | L20: =ROUND(L19/L18,1) -> 6.5 | M20: =ROUND(M19/L18,1) -> 5.5 | N20: 0 | O20: 0 | P20: 0 | Q20: 0 | R20: 0 | S20: 0 | T20: 0 | U20: 0 | V20: 0 | W20: 0
A21: 最多・最長 | B21: =MAX(B6:B17) -> 3 | C21: =MAX(C6:C17) -> 7 | D21: =MAX(D6:D17) -> 1 | E21: =MAX(E6:E17) -> 1 | F21: =MAX(F6:F17) -> 6 | G21: =MAX(G6:G17) -> 6 | H21: =MAX(H6:H17) -> 1 | I21: =MAX(I6:I17) -> 1 | ... W21: =MAX(W6:W17) -> 1
A22: 最少・最短 | B22: =MIN(B6:B17) -> 1 | C22: =MIN(C6:C17) -> 3 | D22: =MIN(D6:D17) -> 1 | E22: =MIN(E6:E17) -> 1 | F22: =MIN(F6:F17) -> 1 | G22: =MIN(G6:G17) -> 1 | H22: =MIN(H6:H17) -> 1 | I22: =MIN(I6:I17) -> 1 | ... W22: =MIN(W6:W17) -> 1

Sheet 5監査所要日数調 (2)
A1: ５ 監査所要日数調 | G1: （令和５年４月１日～令和５年３月３１日）
U2: 次頁へ→
A3: 町 名 | B3: 一 般 監 査 | J3: 出 納 検 査 | N3: 特 別 監 査 | Y3: 町 名 | Z3: 決算 審査 | AB3: 指定 金融 機関 | AD3: 基金 運用 状況 | AF3: 住民 監査 請求 | AH3: 職員の 賠償 責任 | AJ3: 財政 健全 化法 | AL3: その他 | AO3: 合 計
B4: 定期監査 | D4: 随時監査 | F4: 財政的援助団体等監査 | H4: 行政 監査※ | J4: 例 月 | L4: 随 時 | N4: 直接請求 | P4: 議会の 要求 | R4: 請願措置 | T4: 長の要求 | V4: 共同設置 機 関
B5: 回 | C5: 日 | D5: 回 | E5: 日 | F5: 回 | G5: 日 | H5: 回 | I5: 日 | J5: 回 | K5: 日 | L5: 回 | M5: 日 | N5: 件 | O5: 日 | P5: 件 | Q5: 日 | R5: 件 | S5: 日 | T5: 件 | U5: 日 | V5: 件 | W5: 日 | Z5: 件 | AA5: 日 | AB5: 件 | AC5: 日 | AD5: 件 | AE5: 日 | AF5: 件 | AG5: 日 | AH5: 件 | AI5: 日 | AJ5: 件 | AK5: 日 | AL5: 件 | AM5: 日 | AN5: 具体名 | AO5: 回 | AP5: 件 | AQ5: 延べ日数
A6: 猪名川町 | B6: 1 | C6: 6 | F6: 1 | G6: 1 | J6: 12 | K6: 12 | Y6: 猪名川町 | Z6: 7 | AA6: 6 | AD6: 8 | AE6: 1 | AJ6: 14 | AK6: 1 | AO6: =B6+D6+F6+H6+J6+L6 -> 14 | AP6: =N6+P6+R6+T6+V6+Z6+AB6+AD6+AF6+AH6+AJ6+AL6 -> 29 | AQ6: =C6+E6+G6+I6+K6+M6+O6+Q6+S6+U6+W6+AA6+AC6+AE6+AG6+AI6+AK6+AM6 -> 27
A7: 多可町 | B7: 3 | C7: 3 | F7: 6 | G7: 6 | H7: 1 | I7: 1 | J7: 12 | K7: 12 | Y7: 多可町 | Z7: 9 | AA7: 6 | AB7: 1 | AC7: 1 | AD7: 1 | AE7: 1 | AJ7: 18 | AK7: 1 | AO7: =B7+D7+F7+H7+J7+L7 -> 22 | AP7: =N7+P7+R7+T7+V7+Z7+AB7+AD7+AF7+AH7+AJ7+AL7 -> 29 | AQ7: =C7+E7+G7+I7+K7+M7+O7+Q7+S7+U7+W7+AA7+AC7+AE7+AG7+AI7+AK7+AM7 -> 31
A8: 稲美町 | B8: 1 | C8: 3 | F8: 1 | G8: 1 | J8: 11 | K8: 11 | V8: 1 | W8: 1 | Y8: 稲美町 | Z8: 8 | AA8: 3 | AD8: 16 | AE8: 1 | AJ8: 12 | AK8: 1 | AO8: =B8+D8+F8+H8+J8+L8 -> 13 | AP8: =N8+P8+R8+T8+V8+Z8+AB8+AD8+AF8+AH8+AJ8+AL8 -> 37 | AQ8: =C8+E8+G8+I8+K8+M8+O8+Q8+S8+U8+W8+AA8+AC8+AE8+AG8+AI8+AK8+AM8 -> 21
A9: 播磨町 | B9: 1 | C9: 3 | D9: 1 | E9: 1 | J9: 12 | K9: 12 | L9: 5 | M9: 5 | Y9: 播磨町 | Z9: 7 | AA9: 4 | AD9: 2 | AE9: 1 | AJ9: 15 | AK9: 2 | AO9: =B9+D9+F9+H9+J9+L9 -> 19 | AP9: =N9+P9+R9+T9+V9+Z9+AB9+AD9+AF9+AH9+AJ9+AL9 -> 24 | AQ9: =C9+E9+G9+I9+K9+M9+O9+Q9+S9+U9+W9+AA9+AC9+AE9+AG9+AI9+AK9+AM9 -> 28
A10: 市川町 | B10: 1 | C10: 3 | F10: 1 | G10: 4 | J10: 12 | K10: 12 | Y10: 市川町 | Z10: 8 | AA10: 3 | AJ10: 16 | AK10: 1 | AO10: =B10+D10+F10+H10+J10+L10 -> 14 | AP10: =N10+P10+R10+T10+V10+Z10+AB10+AD10+AF10+AH10+AJ10+AL10 -> 24 | AQ10: =C10+E10+G10+I10+K10+M10+O10+Q10+S10+U10+W10+AA10+AC10+AE10+AG10+AI10+AK10+AM10 -> 23
A11: 福崎町 | B11: 2 | C11: 4 | F11: 1 | G11: 1 | J11: 12 | K11: 12 | Y11: 福崎町 | Z11: 8 | AA11: 5 | AD11: 2 | AE11: 1 | AJ11: 18 | AK11: 1 | AO11: =B11+D11+F11+H11+J11+L11 -> 15 | AP11: =N11+P11+R11+T11+V11+Z11+AB11+AD11+AF11+AH11+AJ11+AL11 -> 28 | AQ11: =C11+E11+G11+I11+K11+M11+O11+Q11+S11+U11+W11+AA11+AC11+AE11+AG11+AI11+AK11+AM11 -> 24
A12: 神河町 | B12: 1 | C12: 4 | F12: 1 | G12: 5 | H12: 1 | I12: 1 | J12: 12 | K12: 16 | Y12: 神河町 | Z12: 14 | AA12: 5 | AJ12: 22 | AK12: 1 | AL12: 1 | AM12: 1 | AN12: 現地調査 | AO12: =B12+D12+F12+H12+J12+L12 -> 15 | AP12: =N12+P12+R12+T12+V12+Z12+AB12+AD12+AF12+AH12+AJ12+AL12 -> 37 | AQ12: =C12+E12+G12+I12+K12+M12+O12+Q12+S12+U12+W12+AA12+AC12+AE12+AG12+AI12+AK12+AM12 -> 33
A13: 太子町 | B13: 1 | C13: 6 | J13: 12 | K13: 12 | Y13: 太子町 | Z13: 7 | AA13: 7 | AJ13: 14 | AK13: 1 | AO13: =B13+D13+F13+H13+J13+L13 -> 13 | AP13: =N13+P13+R13+T13+V13+Z13+AB13+AD13+AF13+AH13+AJ13+AL13 -> 21 | AQ13: =C13+E13+G13+I13+K13+M13+O13+Q13+S13+U13+W13+AA13+AC13+AE13+AG13+AI13+AK13+AM13 -> 26
A14: 上郡町 | B14: 1 | C14: 4 | F14: 1 | G14: 3 | J14: 12 | K14: 12 | L14: 8 | M14: 6 | Y14: 上郡町 | Z14: 8 | AA14: 4 | AD14: 12 | AE14: 1 | AJ14: 15 | AK14: 1 | AO14: =B14+D14+F14+H14+J14+L14 -> 22 | AP14: =N14+P14+R14+T14+V14+Z14+AB14+AD14+AF14+AH14+AJ14+AL14 -> 35 | AQ14: =C14+E14+G14+I14+K14+M14+O14+Q14+S14+U14+W14+AA14+AC14+AE14+AG14+AI14+AK14+AM14 -> 31
A15: 佐用町 | B15: 1 | C15: 7 | F15: 1 | G15: 1 | J15: 12 | K15: 12 | Y15: 佐用町 | Z15: 13 | AA15: 5 | AD15: 16 | AE15: 1 | AJ15: 17 | AK15: 1 | AO15: =B15+D15+F15+H15+J15+L15 -> 14 | AP15: =N15+P15+R15+T15+V15+Z15+AB15+AD15+AF15+AH15+AJ15+AL15 -> 46 | AQ15: =C15+E15+G15+I15+K15+M15+O15+Q15+S15+U15+W15+AA15+AC15+AE15+AG15+AI15+AK15+AM15 -> 27
A16: 香美町 | B16: 1 | C16: 4 | J16: 12 | K16: 12 | Y16: 香美町 | Z16: 10 | AA16: 6 | AD16: 1 | AE16: 1 | AJ16: 18 | AK16: 1 | AL16: 1 | AM16: 1 | AN16: 監査意見書提出 | AO16: =B16+D16+F16+H16+J16+L16 -> 13 | AP16: =N16+P16+R16+T16+V16+Z16+AB16+AD16+AF16+AH16+AJ16+AL16 -> 30 | AQ16: =C16+E16+G16+I16+K16+M16+O16+Q16+S16+U16+W16+AA16+AC16+AE16+AG16+AI16+AK16+AM16 -> 25
A17: 新温泉町 | B17: 1 | C17: 3 | F17: 1 | G17: 2 | J17: 12 | K17: 14 | Y17: 新温泉町 | Z17: 11 | AA17: 9 | AD17: 16 | AE17: 1 | AJ17: 19 | AK17: 1 | AO17: =B17+D17+F17+H17+J17+L17 -> 14 | AP17: =N17+P17+R17+T17+V17+Z17+AB17+AD17+AF17+AH17+AJ17+AL17 -> 46 | AQ17: =C17+E17+G17+I17+K17+M17+O17+Q17+S17+U17+W17+AA17+AC17+AE17+AG17+AI17+AK17+AM17 -> 30
A18: 該当町数 | B18: =COUNT(B6:B17) -> 12 | D18: =COUNT(D6:D17) -> 1 | F18: =COUNT(F6:F17) -> 9 | H18: =COUNT(H6:H17) -> 2 | J18: =COUNT(J6:J17) -> 12 | L18: =COUNT(L6:L17) -> 2 | N18: =COUNT(N6:N17) -> 0 | P18: =COUNT(P6:P17) -> 0 | R18: =COUNT(R6:R17) -> 0 | T18: =COUNT(T6:T17) -> 0 | V18: =COUNT(V6:V17) -> 1 | Y18: 該当町数 | Z18: =COUNT(Z6:Z17) -> 12 | AB18: =COUNT(AB6:AB17) -> 1 | AD18: =COUNT(AD6:AD17) -> 9 | AF18: =COUNT(AF6:AF17) -> 0 | AH18: =SUM(AH5:AH16) -> 0 | AJ18: =COUNT(AJ6:AJ17) -> 12 | AL18: =COUNT(AL6:AL17) -> 2 | AO18: =COUNT(AO6:AO17) -> 12
A19: 合 計 | B19: =SUM(B6:B17) -> 15 | C19: =SUM(C6:C17) -> 50 | D19: =SUM(D6:D17) -> 1 | E19: =SUM(E6:E17) -> 1 | F19: =SUM(F6:F17) -> 14 | G19: =SUM(G6:G17) -> 24 | H19: =SUM(H6:H17) -> 2 | I19: =SUM(I6:I17) -> 2 | ... W19: =SUM(W6:W17) -> 1 | Y19: 合 計 | Z19: =SUM(Z6:Z17) -> 110 | AA19: =SUM(AA6:AA17) -> 63 | AB19: =SUM(AB6:AB17) -> 1 | AC19: =SUM(AC6:AC17) -> 1 | AD19: =SUM(AD6:AD17) -> 74 | AE19: =SUM(AE6:AE17) -> 9 | AF19: =SUM(AF6:AF17) -> 0 | AG19: =SUM(AG6:AG17) -> 0 | ... AM19: =SUM(AM6:AM17) -> 2 | AO19: =SUM(AO6:AO17) -> 188 | AP19: =SUM(AP6:AP17) -> 386 | AQ19: =SUM(AQ6:AQ17) -> 326
A20: 平 均 | B20: =ROUND(B19/B18,1) -> 1.3 | C20: =ROUND(C19/B18,1) -> 4.2 | D20: =ROUND(D19/D18,1) -> 1 | E20: =ROUND(E19/D18,1) -> 1 | F20: =ROUND(F19/F18,1) -> 1.6 | G20: =ROUND(G19/F18,1) -> 2.7 | H20: =ROUND(H19/H18,1) -> 1 | I20: =ROUND(I19/H18,1) -> 1 | J20: =ROUND(J19/J18,1) -> 11.9 | K20: =ROUND(K19/J18,1) -> 12.4 | L20: =ROUND(L19/L18,1) -> 6.5 | M20: =ROUND(M19/L18,1) -> 5.5 | N20: 0 | O20: 0 | P20: 0 | Q20: 0 | R20: 0 | S20: 0 | T20: 0 | U20: 0 | V20: 0 | W20: 0 | Y20: 平 均 | Z20: =ROUND(Z19/Z18,1) -> 9.2 | AA20: =ROUND(AA19/Z18,1) -> 5.3 | AB20: 0 | AC20: 0 | AD20: =ROUND(AD19/AD18,1) -> 8.2 | AE20: =ROUND(AE19/AD18,1) -> 1 | AF20: 0 | AG20: 0 | AH20: 0 | AI20: 0 | AJ20: =ROUND(AJ19/AJ18,1) -> 16.5 | AK20: =ROUND(AK19/AJ18,1) -> 1.1 | AL20: =ROUND(AL19/AL18,1) -> 1 | AM20: =ROUND(AM19/AL18,1) -> 1 | AO20: =ROUND(AO19/AO18,1) -> 15.7 | AP20: =ROUND(AP19/AO18,1) -> 32.2 | AQ20: =ROUND(AQ19/AO18,1) -> 27.2
A21: 最多・最長 | B21: =MAX(B6:B17) -> 3 | C21: =MAX(C6:C17) -> 7 | D21: =MAX(D6:D17) -> 1 | E21: =MAX(E6:E17) -> 1 | F21: =MAX(F6:F17) -> 6 | G21: =MAX(G6:G17) -> 6 | H21: =MAX(H6:H17) -> 1 | I21: =MAX(I6:I17) -> 1 | ... W21: =MAX(W6:W17) -> 1 | Y21: 最多・最長 | Z21: =MAX(Z6:Z17) -> 14 | AA21: =MAX(AA6:AA17) -> 9 | AB21: =MAX(AB6:AB17) -> 1 | AC21: =MAX(AC6:AC17) -> 1 | AD21: =MAX(AD6:AD17) -> 16 | AE21: =MAX(AE6:AE17) -> 1 | AF21: =MAX(AF6:AF17) -> 0 | AG21: =MAX(AG6:AG17) -> 0 | ... AM21: =MAX(AM6:AM17) -> 1 | AO21: =MAX(AO6:AO17) -> 22 | AP21: =MAX(AP6:AP17) -> 46 | AQ21: =MAX(AQ6:AQ17) -> 33
A22: 最少・最短 | B22: =MIN(B6:B17) -> 1 | C22: =MIN(C6:C17) -> 3 | D22: =MIN(D6:D17) -> 1 | E22: =MIN(E6:E17) -> 1 | F22: =MIN(F6:F17) -> 1 | G22: =MIN(G6:G17) -> 1 | H22: =MIN(H6:H17) -> 1 | I22: =MIN(I6:I17) -> 1 | ... W22: =MIN(W6:W17) -> 1 | Y22: 最少・最短 | Z22: =MIN(Z6:Z17) -> 7 | AA22: =MIN(AA6:AA17) -> 3 | AB22: =MIN(AB6:AB17) -> 1 | AC22: =MIN(AC6:AC17) -> 1 | AD22: =MIN(AD6:AD17) -> 1 | AE22: =MIN(AE6:AE17) -> 1 | AF22: =MIN(AF6:AF17) -> 0 | AG22: =MIN(AG6:AG17) -> 0 | ... AM22: =MIN(AM6:AM17) -> 1 | AO22: =MIN(AO6:AO17) -> 13 | AP22: =MIN(AP6:AP17) -> 21 | AQ22: =MIN(AQ6:AQ17) -> 21
A24: 町 名 | B24: ※ 行政監査を行った場合の対象と監査委員が必要と認めた理由
B25: 対 象 | J25: 理 由
A26: 神河町 | B26: 一般会計当初予算 | J26: 効率的な運用が図られているか確認（毎年実施）

Sheet 6活動日数調
A1: ６ 監査委員活動日数調 | F1: ='5監査所要日数調'!G1 -> （令和６年４月１日～令和７年３月３１日）
A3: 町 名 | B3: 監査所要 日 数 | D3: 庶務処理等登庁日数 | F3: 議 会 出 席 | J3: 視 察 研修会 | L3: 公共団体等 会合出席 | N3: そ の 他 | R3: 合 計
F4: 本会議 | H4: 委員会
B5: 代表 | C5: 議選 | D5: 代表 | E5: 議選 | F5: 代表 | G5: 議選 | H5: 代表 | I5: 議選 | J5: 代表 | K5: 議選 | L5: 代表 | M5: 議選 | N5: 代表 | P5: 議選 | R5: 代表 | S5: 議選
B6: 日 | C6: 日 | D6: 日 | E6: 日 | F6: 日 | G6: 日 | H6: 日 | I6: 日 | J6: 日 | K6: 日 | L6: 日 | M6: 日 | N6: 日 | O6: 内容 | P6: 日 | Q6: 内容 | R6: 日 | S6: 日
A7: 猪名川町 | B7: 27 | C7: 27 | J7: 3 | K7: 3 | L7: 1 | M7: 1 | R7: =B7+D7+F7+H7+J7+L7+N7 -> 31 | S7: =C7+E7+G7+I7+K7+M7+P7 -> 31 | AK7: 13 | AL7: 1
A8: 多可町 | B8: 23 | C8: 23 | D8: 5 | E8: 5 | J8: 4 | K8: 3 | L8: 3 | M8: 2 | R8: =B8+D8+F8+H8+J8+L8+N8 -> 35 | S8: =C8+E8+G8+I8+K8+M8+P8 -> 33
A9: 稲美町 | B9: 16 | C9: 16 | D9: 63 | E9: 53 | J9: 5 | K9: 5 | R9: =B9+D9+F9+H9+J9+L9+N9 -> 84 | S9: =C9+E9+G9+I9+K9+M9+P9 -> 74
A10: 播磨町 | B10: 28 | C10: 28 | D10: 7 | E10: 7 | K10: 1 | R10: =B10+D10+F10+H10+J10+L10+N10 -> 35 | S10: =C10+E10+G10+I10+K10+M10+P10 -> 36
A11: 市川町 | B11: 18 | C11: 18 | D11: 1 | E11: 1 | J11: 5 | K11: 5 | R11: =B11+D11+F11+H11+J11+L11+N11 -> 24 | S11: =C11+E11+G11+I11+K11+M11+P11 -> 24
A12: 福崎町 | B12: 24 | C12: 24 | D12: 5 | E12: 2 | F12: 2 | J12: 5 | K12: 5 | R12: =B12+D12+F12+H12+J12+L12+N12 -> 36 | S12: =C12+E12+G12+I12+K12+M12+P12 -> 31
A13: 神河町 | B13: 20 | C13: 20 | F13: 1 | J13: 5 | K13: 5 | L13: 4 | R13: =B13+D13+F13+H13+J13+L13+N13 -> 30 | S13: =C13+E13+G13+I13+K13+M13+P13 -> 25
A14: 太子町 | B14: 26 | C14: 26 | F14: 5 | J14: 5 | K14: 5 | L14: 1 | R14: =B14+D14+F14+H14+J14+L14+N14 -> 37 | S14: =C14+E14+G14+I14+K14+M14+P14 -> 31
A15: 上郡町 | B15: 21 | C15: 21 | F15: 2 | J15: 4 | K15: 4 | R15: =B15+D15+F15+H15+J15+L15+N15 -> 27 | S15: =C15+E15+G15+I15+K15+M15+P15 -> 25
A16: 佐用町 | B16: 16 | C16: 16 | F16: 2 | J16: 3 | K16: 5 | L16: 2 | M16: 3 | N16: 3 | O16: 辞令交付、決算審査意見調整及び手交 | P16: 2 | Q16: 辞令交付、決算審査意見調整及び手交 | R16: =B16+D16+F16+H16+J16+L16+N16 -> 26 | S16: =C16+E16+G16+I16+K16+M16+P16 -> 26
A17: 香美町 | B17: 23 | C17: 23 | F17: 2 | K17: 4 | N17: 1 | O17: 監査意見書提出 | P17: 1 | Q17: 監査意見書提出 | R17: =B17+D17+F17+H17+J17+L17+N17 -> 26 | S17: =C17+E17+G17+I17+K17+M17+P17 -> 28
A18: 新温泉町 | B18: 27 | C18: 27 | F18: 18 | L18: 3 | M18: 3 | R18: =B18+D18+F18+H18+J18+L18+N18 -> 48 | S18: =C18+E18+G18+I18+K18+M18+P18 -> 30
A19: 該当町数 | B19: =COUNT(B7:B18) -> 12 | C19: =COUNT(C7:C18) -> 12 | D19: =COUNT(D7:D18) -> 5 | E19: =COUNT(E7:E18) -> 5 | F19: =COUNT(F7:F18) -> 7 | G19: =COUNT(G7:G18) -> 0 | H19: =COUNT(H7:H18) -> 0 | I19: =COUNT(I7:I18) -> 0 | ... N19: =COUNT(N7:N18) -> 2 | P19: =COUNT(P7:P18) -> 2 | R19: =COUNT(R7:R18) -> 12 | S19: =COUNT(S7:S18) -> 12
A20: 合 計 | B20: =SUM(B7:B18) -> 269 | C20: =SUM(C7:C18) -> 269 | D20: =SUM(D7:D18) -> 81 | E20: =SUM(E7:E18) -> 68 | F20: =SUM(F7:F18) -> 32 | G20: =SUM(G7:G18) -> 0 | H20: =SUM(H7:H18) -> 0 | I20: =SUM(I7:I18) -> 0 | ... N20: =SUM(N7:N18) -> 4 | P20: =SUM(P7:P18) -> 3 | R20: =SUM(R7:R18) -> 439 | S20: =SUM(S7:S18) -> 394
A21: 平 均 | B21: =ROUND(B20/B19,1) -> 22.4 | C21: =ROUND(C20/C19,1) -> 22.4 | D21: =ROUND(D20/D19,1) -> 16.2 | E21: =ROUND(E20/E19,1) -> 13.6 | F21: =ROUND(F20/F19,1) -> 4.6 | G21: 0 | H21: 0 | I21: 0 | J21: =ROUND(J20/J19,1) -> 4.3 | K21: =ROUND(K20/K19,1) -> 4.1 | L21: =ROUND(L20/L19,1) -> 2.3 | M21: =ROUND(M20/M19,1) -> 2.3 | N21: 1 | P21: 1 | R21: =ROUND(R20/R19,1) -> 36.6 | S21: =ROUND(S20/S19,1) -> 32.8
A22: 最 長 | B22: =MAX(B7:B18) -> 28 | C22: =MAX(C7:C18) -> 28 | D22: =MAX(D7:D18) -> 63 | E22: =MAX(E7:E18) -> 53 | F22: =MAX(F7:F18) -> 18 | G22: =MAX(G7:G18) -> 0 | H22: =MAX(H7:H18) -> 0 | I22: =MAX(I7:I18) -> 0 | ... N22: =MAX(N7:N18) -> 3 | P22: =MAX(P7:P18) -> 2 | R22: =MAX(R7:R18) -> 84 | S22: =MAX(S7:S18) -> 74
A23: 最 短 | B23: =MIN(B7:B18) -> 16 | C23: =MIN(C7:C18) -> 16 | D23: =MIN(D7:D18) -> 1 | E23: =MIN(E7:E18) -> 1 | F23: =MIN(F7:F18) -> 1 | G23: =MIN(G7:G18) -> 0 | H23: =MIN(H7:H18) -> 0 | I23: =MIN(I7:I18) -> 0 | ... N23: =MIN(N7:N18) -> 1 | P23: =MIN(P7:P18) -> 1 | R23: =MIN(R7:R18) -> 24 | S23: =MIN(S7:S18) -> 24

Sheet 7-1規定調
A1: ７－１ 監査規程等調 | F1: ='1監査委員調①'!D1 -> （令和７年４月１日現在）
A3: 町 名 | B3: 監査規程 | D3: 処務規程 | F3: 公印規程 | H3: 専用事務室 | J3: 令和２年度 監査計画 | L3: 工事監査等の外部委託
B5: 有 | C5: 無 | D5: 有 | E5: 無 | F5: 有 | G5: 無 | H5: 有 | I5: 無 | J5: 有 | K5: 無 | L5: 有 | M5: 無
A6: 猪名川町 | B6: ○ | D6: ○ | F6: ○ | I6: ○ | K6: ○ | M6: ○
A7: 多可町 | C7: ○ | E7: ○ | G7: ○ | H7: ○ | K7: ○ | M7: ○ | AG7: 13 | AH7: 1
A8: 稲美町 | C8: ○ | E8: ○ | G8: ○ | I8: ○ | K8: ○ | M8: ○
A9: 播磨町 | C9: ○ | D9: ○ | F9: ○ | I9: ○ | K9: ○ | M9: ○
A10: 市川町 | B10: ○ | E10: ○ | F10: ○ | H10: ○ | K10: ○ | M10: ○
A11: 福崎町 | C11: ○ | E11: ○ | G11: ○ | H11: ○ | K11: ○ | M11: ○
A12: 神河町 | B12: ○ | E12: ○ | G12: ○ | I12: ○ | K12: ○ | M12: ○
A13: 太子町 | B13: ○ | D13: ○ | G13: ○ | I13: ○ | K13: ○ | M13: ○
A14: 上郡町 | C14: ○ | D14: ○ | F14: ○ | I14: ○ | K14: ○ | M14: ○
A15: 佐用町 | B15: ○ | D15: ○ | F15: ○ | H15: ○ | K15: ○ | M15: ○
A16: 香美町 | B16: ○ | D16: ○ | F16: ○ | I16: ○ | K16: ○ | M16: ○
A17: 新温泉町 | C17: ○ | E17: ○ | G17: ○ | I17: ○ | K17: ○ | M17: ○
A18: 該当町数 | B18: =COUNTIF(B6:B17,"○") -> 6 | C18: =COUNTIF(C6:C17,"○") -> 6 | D18: =COUNTIF(D6:D17,"○") -> 6 | E18: =COUNTIF(E6:E17,"○") -> 6 | F18: =COUNTIF(F6:F17,"○") -> 6 | G18: =COUNTIF(G6:G17,"○") -> 6 | H18: =COUNTIF(H6:H17,"○") -> 4 | I18: =COUNTIF(I6:I17,"○") -> 8 | ... M18: =COUNTIF(M6:M17,"○") -> 12
A19: 構成比 | B19: =ROUND(B18/12,3) -> 0.5 | C19: =ROUND(C18/12,3) -> 0.5 | D19: =ROUND(D18/12,3) -> 0.5 | E19: =ROUND(E18/12,3) -> 0.5 | F19: =ROUND(F18/12,3) -> 0.5 | G19: =ROUND(G18/12,3) -> 0.5 | H19: =ROUND(H18/12,3) -> 0.333 | I19: =ROUND(I18/12,3) -> 0.667 | ... M19: =ROUND(M18/12,3) -> 1
B20: =SUM(B19:C19) -> 1 | D20: =SUM(D19:E19) -> 1 | F20: =SUM(F19:G19) -> 1 | H20: =SUM(H19:I19) -> 1 | J20: =SUM(J19:K19) -> 1 | L20: =SUM(L19:M19) -> 1

Sheet 7-2勧告実施調
A1: ７－２ 勧告の実施に関する調 | E1: （令和６年４月１日～令和７年３月３１日）
A3: 町 名 | B3: 勧 告 の 実 施 の 有 無
B5: 有 | C5: 無 | D5: 特に必要があったと認めた事項 | G5: その理由
A6: 猪名川町 | C6: ○
A7: 多可町 | C7: ○
A8: 稲美町 | C8: ○
A9: 播磨町 | C9: ○
A10: 市川町 | C10: ○
A11: 福崎町 | C11: ○
A12: 神河町 | C12: ○
A13: 太子町 | C13: ○
A14: 上郡町 | C14: ○
A15: 佐用町 | C15: ○
A16: 香美町 | C16: ○
A17: 新温泉町 | C17: ○
A18: 該当町数 | B18: =COUNTA(B6:B17) -> 0 | C18: =COUNTA(C6:C17) -> 12
A19: 構成比 | B19: =ROUND(B18/12,3) -> 0 | C19: =ROUND(C18/12,3) -> 1
B20: =SUM(B19:C19) -> 1

Sheet 8-1結果報告調
A1: ８－１ 議会・住民に対する監査結果の報告方法調
A2: ='5監査所要日数調'!G1 -> （令和６年４月１日～令和７年３月３１日）
A4: 町 名 | B4: 議 会 へ の 報 告 | N4: 住民への報告
B5: 定期監査 | F5: 例月出納検査 | J5: 決算審査 | N5: 有 | S5: 無
B6: 文書 のみ | C6: 文書と併せて口頭報告 | E6: その他 | F6: 文書 のみ | G6: 文書と併せて口頭報告 | I6: その他 | J6: 文書 のみ | K6: 文書と併せて口頭報告 | M6: その他
C7: 識見 | D7: 議選 | G7: 識見 | H7: 議選 | K7: 識見 | L7: 議選 | N7: 議会広報 | O7: 町広報 | P7: 掲示板 | Q7: ﾎｰﾑﾍﾟｰｼﾞ | R7: その他
A8: 猪名川町 | B8: ○ | F8: ○ | J8: ○ | Q8: ○
A9: 多可町 | B9: ○ | F9: ○ | J9: ○ | P9: ○
A10: 稲美町 | B10: ○ | F10: ○ | J10: ○ | P10: ○
A11: 播磨町 | B11: ○ | F11: ○ | J11: ○ | P11: ○ | Q11: ○
A12: 市川町 | B12: ○ | F12: ○ | J12: ○ | N12: ○ | P12: ○
A13: 福崎町 | B13: ○ | F13: ○ | K13: ○ | N13: ○ | Q13: ○
A14: 神河町 | B14: ○ | F14: ○ | K14: ○ | N14: ○
A15: 太子町 | B15: ○ | F15: ○ | K15: ○ | O15: ○ | Q15: ○
A16: 上郡町 | C16: ○ | F16: ○ | K16: ○ | N16: ○
A17: 佐用町 | B17: ○ | F17: ○ | K17: ○ | N17: ○ | Q17: ○
A18: 香美町 | B18: ○ | F18: ○ | K18: ○ | P18: ○ | Q18: ○
A19: 新温泉町 | B19: ○ | F19: ○ | K19: ○ | N19: ○ | Q19: ○
A20: 該当町数 | B20: =COUNTA(B8:B19) -> 11 | C20: =COUNTA(C8:C19) -> 1 | D20: =COUNTA(D8:D19) -> 0 | E20: =COUNTA(E8:E19) -> 0 | F20: =COUNTA(F8:F19) -> 12 | G20: =COUNTA(G8:G19) -> 0 | H20: =COUNTA(H8:H19) -> 0 | I20: =COUNTA(I8:I19) -> 0 | ... S20: =COUNTA(S8:S19) -> 0
A21: 構成比 | B21: =ROUND(B20/(B20+C20+D20+E20),4) -> 0.9167 | C21: =ROUNDDOWN(C20/(C20+D20+E20+B20),4) -> 0.0833 | D21: =ROUNDDOWN(D20/(D20+E20+B20+C20),4) -> 0 | E21: =ROUNDDOWN(E20/(E20+C20+B20+D20),4) -> 0 | F21: =ROUND(F20/(F20+G20+H20+I20),4) -> 1 | G21: =ROUNDDOWN(G20/(G20+H20+I20+F20),4) -> 0 | H21: =ROUNDDOWN(H20/(H20+I20+F20+G20),4) -> 0 | I21: =ROUNDDOWN(I20/(I20+G20+F20+H20),4) -> 0 | J21: =ROUND(J20/(J20+K20+L20+M20),4) -> 0.4167 | K21: =ROUNDDOWN(K20/(K20+L20+M20+J20),4) -> 0.5833 | L21: =ROUNDDOWN(L20/(L20+M20+J20+K20),4) -> 0 | M21: =ROUNDDOWN(M20/(M20+K20+J20+L20),4) -> 0 | N21: =ROUND(N20/(N20+O20+P20+Q20),4) -> 0.3158 | O21: =ROUNDDOWN(O20/(O20+P20+Q20+N20),4) -> 0.0526 | P21: =ROUNDDOWN(P20/(P20+Q20+N20+O20),4) -> 0.2631 | Q21: =ROUNDDOWN(Q20/(Q20+O20+N20+P20),4) -> 0.3684 | R21: =ROUND(R20/(R20+S20+N20+O20+P20+Q20),4) -> 0 | S21: =ROUND(S20/(S20+R20+Q20+P20+O20+N20),4) -> 0
B22: =SUM(B21:E21) -> 1 | F22: =SUM(F21:I21) -> 1 | J22: =SUM(J21:M21) -> 1 | N22: =SUM(N21:S21) -> 0.9999

Sheet 8-2 タブレットの導入
B1: ８-２ 監査等のデジタル化に関する調 （令和６年４月１日～令和７年３月３１日）
B4: 町 名 | C4: タブレット端末によるペーパーレス化 | D4: 監査等のオンライン開催 | E4: その他
F5: 具体名を記入
B6: 猪名川町 | C6: ○
B7: 多 可 町 | C7: ○
B8: 稲 美 町
B9: 播 磨 町
B10: 市 川 町
B11: 福 崎 町 | E11: ○ | F11: モニター画面表示により部分的にペーパーレス化
B12: 神 河 町 | C12: ○
B13: 太 子 町
B14: 上 郡 町 | C14: ○
B15: 佐 用 町
B16: 香 美 町
B17: 新温泉町
B18: ='[1]1監査委員①'!B31 -> 0
B19: ='[1]1監査委員①'!B33 -> 0
B20: ='[1]1監査委員①'!B35 -> 0
B21: ='[1]1監査委員①'!B37 -> 0
B22: ='[1]1監査委員①'!B39 -> 0
B23: ='[1]1監査委員①'!B41 -> 0
B24: ='[1]1監査委員①'!B43 -> 0
B25: ='[1]1監査委員①'!B45 -> 0
B26: ='[1]1監査委員①'!B47 -> 0
B27: ='[1]1監査委員①'!B49 -> 0
B28: ='[1]1監査委員①'!B51 -> 0
B29: ='[1]1監査委員①'!B53 -> 0
B30: ='[1]1監査委員①'!B55 -> 0
B31: ='[1]1監査委員①'!B57 -> 0
B32: ='[1]1監査委員①'!B59 -> 0
B33: ='[1]1監査委員①'!B61 -> 0
B34: ='[1]1監査委員①'!B63 -> 0
B35: ='[1]1監査委員①'!B65 -> 0
B36: ='[1]1監査委員①'!B67 -> 0
B37: ='[1]1監査委員①'!B69 -> 0
B38: ='[1]1監査委員①'!B71 -> 0
B39: ='[1]1監査委員①'!B73 -> 0
B40: ='[1]1監査委員①'!B75 -> 0
B41: ='[1]1監査委員①'!B77 -> 0
B42: ='[1]1監査委員①'!B79 -> 0
...

Sheet 8-3報告方法
B1: ８-３ 監査指摘事項の履行確保のための措置に関する調
B2: ='5監査所要日数調'!G1 -> （令和６年４月１日～令和７年３月３１日）
B3: 組合等名 | C3: 次の監査 の際に 確認 | D3: その都度 | G3: その他 の措置 | I3: 指摘 事項 なし
D4: 文書で改善 措置事項の 回答要求 | E4: 関係課長・ 係を集め、 口頭で 直接指摘 | F4: 町村長・ 会計管理者に 直接申入れ | H4: 具体名
B5: 猪名川町 | C5: ○
B6: 多可町 | C6: ○
B7: 稲美町 | I7: ○
B8: 播磨町 | C8: ○
B9: 市川町 | C9: ○
B10: 福崎町 | C10: ○
B11: 神河町 | C11: ○
B12: 太子町 | C12: ○
B13: 上郡町 | C13: ○
B14: 佐用町 | I14: ○
B15: 香美町 | C15: ○
B16: 新温泉町 | C16: ○
B17: 該当町数 | C17: =COUNTA(C5:C16) -> 10 | D17: =COUNTA(D5:D16) -> 0 | E17: =COUNTA(E5:E16) -> 0 | F17: =COUNTA(F5:F16) -> 0 | G17: =COUNTA(G5:G16) -> 0 | I17: =COUNTA(I5:I16) -> 2
B18: 構成比 | C18: =ROUND(C17/12,3) -> 0.833 | D18: =ROUND(D17/12,3) -> 0 | E18: =ROUND(E17/12,3) -> 0 | F18: =ROUND(F17/12,3) -> 0 | G18: =ROUND(G17/12,3) -> 0 | I18: =ROUND(I17/12,3) -> 0.167
C19: 1

Sheet 9・10人選・手続調
A1: ９ 議選監査委員の人選方法 | F1: １０ 監査手続に関する調
A2: （令和７年４月１日在職者） | F2: ='5監査所要日数調'!G1 -> （令和６年４月１日～令和７年３月３１日）
A4: 町 名 | B4: 議会に 一任 | C4: 長と 議会で 相談 | D4: 長限りで決めた | F4: 町 名 | G4: 学識経験者等 からの意見聴取 | I4: 監査への立会い
G6: 有 | H6: 無 | I6: 有 | J6: 無
A7: 猪名川町 | B7: ○ | F7: 猪名川町 | H7: ○ | J7: ○
A8: 多可町 | B8: ○ | F8: 多可町 | H8: ○ | J8: ○ | AL8: 13 | AM8: 1
A9: 稲美町 | D9: ○ | F9: 稲美町 | H9: ○ | J9: ○
A10: 播磨町 | B10: ○ | F10: 播磨町 | H10: ○ | J10: ○
A11: 市川町 | B11: ○ | F11: 市川町 | H11: ○ | J11: ○
A12: 福崎町 | B12: ○ | F12: 福崎町 | H12: ○ | J12: ○
A13: 神河町 | B13: ○ | F13: 神河町 | H13: ○ | J13: ○
A14: 太子町 | B14: ○ | F14: 太子町 | H14: ○ | J14: ○
A15: 上郡町 | B15: ○ | F15: 上郡町 | H15: ○ | J15: ○
A16: 佐用町 | B16: ○ | F16: 佐用町 | H16: ○ | J16: ○
A17: 香美町 | B17: ○ | F17: 香美町 | H17: ○ | J17: ○
A18: 新温泉町 | B18: ○ | F18: 新温泉町 | H18: ○ | J18: ○
A19: 該当町数 | B19: =COUNTA(B7:B18) -> 11 | C19: =COUNTA(C7:C18) -> 0 | D19: =COUNTA(D7:D18) -> 1 | F19: 該当町数 | G19: =COUNTA(G7:G18) -> 0 | H19: =COUNTA(H7:H18) -> 12 | I19: =COUNTA(I7:I18) -> 0 | J19: =COUNTA(J7:J18) -> 12
A20: 構成比 | B20: =ROUND(B19/12,3) -> 0.917 | C20: =ROUND(C19/12,3) -> 0 | D20: =ROUND(D19/12,3) -> 0.083 | F20: 構成比 | G20: =ROUND(G19/12,3) -> 0 | H20: =ROUND(H19/12,3) -> 1 | I20: =ROUND(I19/12,3) -> 0 | J20: =ROUND(J19/12,3) -> 1
B21: =SUM(B20:D20) -> 1 | G21: =SUM(G20:H20) -> 1 | I21: =SUM(I20:J20) -> 1

Sheet 11外部監査調
A1: １１ 外部監査に関する調
A2: ='5監査所要日数調'!G1 -> （令和６年４月１日～令和７年３月３１日）
A4: 町 名 | B4: 外部監査 条例制定 | D4: 外部監査実績 （包括外部監査） | H4: 外部監査実績 （個別外部監査）
B5: 有 | C5: 無 | D5: 契約の相手方 | E5: 契約金額 | F5: 監査所要日数 | G5: 監査対象事項 | H5: 契約の相手方 | I5: 契約金額 | J5: 監査所要日数 | K5: 監査対象事項
E6: 円 | F6: 日 | I6: 円 | J6: 日
A7: 猪名川町 | C7: ○
A8: 多可町 | C8: ○ | AK8: 13 | AL8: 1
A9: 稲美町 | C9: ○
A10: 播磨町 | C10: ○
A11: 市川町 | C11: ○
A12: 福崎町 | C12: ○
A13: 神河町 | C13: ○
A14: 太子町 | C14: ○
A15: 上郡町 | C15: ○
A16: 佐用町 | C16: ○
A17: 香美町 | B17: ○
A18: 新温泉町 | C18: ○
A19: 該当町数 | B19: =COUNTA(B7:B18) -> 1 | C19: =COUNTA(C7:C18) -> 11
A20: 構成比 | B20: =ROUND(B19/12,3) -> 0.083 | C20: =ROUND(C19/12,3) -> 0.917
B21: =SUM(B20:C20) -> 1

Sheet 12.13監査専門委員
A1: １２ 監査専門委員に関する調 | F1: １３ 内部統制に関する調
A2: ='1監査委員調①'!D1 -> （令和７年４月１日現在） | F2: ='1監査委員調①'!D1 -> （令和７年４月１日現在）
A4: 町 名 | B4: 有 | D4: 無 | F4: 町 名 | G4: 有 | I4: 無
B6: ①常時 | C6: ②臨時 | G6: 法第150条第2項の方針に
G7: ①基づく | H7: ②基づかない
A8: 猪名川町 | D8: ○ | F8: 猪名川町 | I8: ○
A9: 多可町 | D9: ○ | F9: 多可町 | I9: ○
A10: 稲美町 | D10: ○ | F10: 稲美町 | I10: ○
A11: 播磨町 | D11: ○ | F11: 播磨町 | I11: ○
A12: 市川町 | D12: ○ | F12: 市川町 | I12: ○
A13: 福崎町 | D13: ○ | F13: 福崎町 | I13: ○
A14: 神河町 | D14: ○ | F14: 神河町 | I14: ○
A15: 太子町 | D15: ○ | F15: 太子町 | I15: ○
A16: 上郡町 | D16: ○ | F16: 上郡町 | I16: ○
A17: 佐用町 | D17: ○ | F17: 佐用町 | I17: ○
A18: 香美町 | D18: ○ | F18: 香美町 | I18: ○
A19: 新温泉町 | D19: ○ | F19: 新温泉町 | I19: ○
A20: 該当町数 | B20: =COUNTA(B8:B19) -> 0 | C20: =COUNTA(C8:C19) -> 0 | D20: =COUNTA(D8:D19) -> 12 | F20: 該当町数 | G20: =COUNTA(G8:G19) -> 0 | H20: =COUNTA(H8:H19) -> 0 | I20: =COUNTA(I8:I19) -> 12
A21: 構成比 | B21: =ROUND(B20/12,3) -> 0 | C21: =ROUND(C20/12,3) -> 0 | D21: =ROUND(D20/12,3) -> 1 | F21: 構成比 | G21: =ROUND(G20/12,3) -> 0 | H21: =ROUND(H20/12,3) -> 0 | I21: =ROUND(I20/12,3) -> 1
B22: =SUM(B21:D21) -> 1 | G22: =SUM(G21:I21) -> 1

Sheet 14・15権利放棄・免責条例
A1: １４ 議会による権利放棄に関する調 | G1: １５ 免責条例の制定・改廃に関する調
A2: ='5監査所要日数調'!G1 -> （令和６年４月１日～令和７年３月３１日） | G2: ='5監査所要日数調'!G1 -> （令和６年４月１日～令和７年３月３１日）
A4: 町 名 | B4: 監査委員の 意見聴取 | D4: 内容 | G4: 町 名 | H4: 免責条例の 制定 | J4: 新たな条例 制定の有無 | L4: 新たに条例を 制定した場合 の監査委員の 意見聴取の 具体的内容
B6: 有 | C6: 無 | H6: 有 | I6: 無 | J6: 有 | K6: 無
A7: 猪名川町 | C7: ○ | G7: 猪名川町 | I7: ○ | K7: ○
A8: 多可町 | C8: ○ | G8: 多可町 | H8: ○ | K8: ○ | AN8: 13 | AO8: 1
A9: 稲美町 | C9: ○ | G9: 稲美町 | H9: ○ | K9: ○
A10: 播磨町 | C10: ○ | G10: 播磨町 | I10: ○ | K10: ○
A11: 市川町 | C11: ○ | G11: 市川町 | H11: ○ | K11: ○
A12: 福崎町 | C12: ○ | G12: 福崎町 | H12: ○ | K12: ○
A13: 神河町 | C13: ○ | G13: 神河町 | I13: ○ | K13: ○
A14: 太子町 | C14: ○ | G14: 太子町 | I14: ○ | K14: ○
A15: 上郡町 | C15: ○ | G15: 上郡町 | H15: ○ | K15: ○
A16: 佐用町 | C16: ○ | G16: 佐用町 | I16: ○ | K16: ○
A17: 香美町 | C17: ○ | G17: 香美町 | I17: ○ | K17: ○
A18: 新温泉町 | C18: ○ | G18: 新温泉町 | I18: ○ | K18: ○
A19: 該当町数 | B19: =COUNTA(B7:B18) -> 0 | C19: =COUNTA(C7:C18) -> 12 | G19: 該当町数 | H19: =COUNTA(H7:H18) -> 5 | I19: =COUNTA(I7:I18) -> 7 | J19: =COUNTA(J7:J18) -> 0 | K19: =COUNTA(K7:K18) -> 12
A20: 構成比 | B20: =ROUND(B19/12,3) -> 0 | C20: =ROUND(C19/12,3) -> 1 | G20: 構成比 | H20: =ROUND(H19/12,3) -> 0.417 | I20: =ROUND(I19/12,3) -> 0.583 | J20: =ROUND(J19/12,3) -> 0 | K20: =ROUND(K19/12,3) -> 1
B21: =SUM(B20:C20) -> 1 | H21: =SUM(H20:I20) -> 1 | J21: =SUM(J20:K20) -> 1

Sheet 監査請求等
A1: ○ 監査請求事例に関する調
B3: ='5監査所要日数調'!G1 -> （令和６年４月１日～令和７年３月３１日）
A4: 町 名 | B4: 請求内容の概略 | C4: 結 果
A5: 上郡町 | B5: 住民監査請求の棄却によって住民訴訟となった事件において、被告（町長）の弁護費用を町費から支出した行為に対する住民監査請求である。 | C5: 却下
B6: 町が提訴した損害賠償請求訴訟において、訴訟費用を町費から支出した行為に対する住民監査請求である。 | C6: 却下
A7: 合 計 | B7: ２ 件
A11: ○ 住民訴訟判例に関する調
B13: =B3 -> （令和６年４月１日～令和７年３月３１日）
A14: 町 名 | B14: 住民訴訟判例の概略 | C14: 結 果
A16: 合 計 | B16: ０ 件
